BEGIN:VCALENDAR
PRODID:-//AT Content Types//AT Event//EN
VERSION:2.0
METHOD:PUBLISH
BEGIN:VEVENT
DTSTAMP:20200226T125904Z
CREATED:20180808T091358Z
UID:ATEvent-9192ba77955c42a5a29de677c00cb620
LAST-MODIFIED:20181106T021438Z
SUMMARY:NSAMS consultation workshop SYDNEY
DTSTART:20181017T020000Z
DTEND:20181017T053000Z
DESCRIPTION:Venue: Aerial UTS Function Centre\, Building 10\, Level 7/
 235 Jones St\, Ultimo 2007
CLASS:PUBLIC
END:VEVENT
END:VCALENDAR
