BEGIN:VCALENDAR
PRODID:-//AT Content Types//AT Event//EN
VERSION:2.0
METHOD:PUBLISH
BEGIN:VEVENT
DTSTAMP:20200226T125859Z
CREATED:20180808T091358Z
UID:ATEvent-77984a6f2cbf315dc6b9c2079c4e2c6f
LAST-MODIFIED:20181106T021438Z
SUMMARY:NSAMS consultation workshop PERTH
DTSTART:20181015T020000Z
DTEND:20181015T053000Z
DESCRIPTION:Venue: Ibis Hotel\, 334 Murray Street\, Perth 6000
CLASS:PUBLIC
END:VEVENT
END:VCALENDAR
