BEGIN:VCALENDAR
PRODID:-//AT Content Types//AT Event//EN
VERSION:2.0
METHOD:PUBLISH
BEGIN:VEVENT
DTSTAMP:20200226T125910Z
CREATED:20180808T091358Z
UID:ATEvent-72fd4468ade357193b2d4db48b5dbba6
LAST-MODIFIED:20181106T021439Z
SUMMARY:NSAMS consultation workshop MELBOURNE
DTSTART:20181018T020000Z
DTEND:20181018T053000Z
DESCRIPTION:Venue: Adina Apartment Hotel\, 189 Queen Street\, Melbourn
 e 3000
CLASS:PUBLIC
END:VEVENT
END:VCALENDAR
