BEGIN:VCALENDAR
PRODID:-//AT Content Types//AT Event//EN
VERSION:2.0
METHOD:PUBLISH
BEGIN:VEVENT
DTSTAMP:20200226T125943Z
CREATED:20180808T091359Z
UID:ATEvent-d2a340380466bdcfbe9bc7fdb7e2ce08
LAST-MODIFIED:20181106T021437Z
SUMMARY:NSAMS consultation workshop HOBART
DTSTART:20181115T230000Z
DTEND:20181116T040000Z
DESCRIPTION:Venue: Rydges Hobart\, 393 Argyle St\, North Hobart 7000
CLASS:PUBLIC
END:VEVENT
END:VCALENDAR
