BEGIN:VCALENDAR
PRODID:-//AT Content Types//AT Event//EN
VERSION:2.0
METHOD:PUBLISH
BEGIN:VEVENT
DTSTAMP:20200226T125917Z
CREATED:20180808T091358Z
UID:ATEvent-f6274bc679543ccae145c01e73b6a023
LAST-MODIFIED:20181106T021439Z
SUMMARY:NSAMS consultation workshop DARWIN
DTSTART:20181022T220000Z
DTEND:20181023T023000Z
DESCRIPTION:Venue: Novotel Darwin Atrium\, 100 The Esplanade\, Darwin 
 0800
CLASS:PUBLIC
END:VEVENT
END:VCALENDAR
