BEGIN:VCALENDAR
PRODID:-//AT Content Types//AT Event//EN
VERSION:2.0
METHOD:PUBLISH
BEGIN:VEVENT
DTSTAMP:20200226T125933Z
CREATED:20180808T091359Z
UID:ATEvent-5e2d7c6770b898144949c8881a7220e9
LAST-MODIFIED:20181106T021438Z
SUMMARY:NSAMS consultation workshop CANBERRA
DTSTART:20181113T020000Z
DTEND:20181113T053000Z
DESCRIPTION:Venue: Southern Cross Club\, 92-96 Corinna St\, Woden ACT 
 2606
CLASS:PUBLIC
END:VEVENT
END:VCALENDAR
