BEGIN:VCALENDAR
PRODID:-//AT Content Types//AT Event//EN
VERSION:2.0
METHOD:PUBLISH
BEGIN:VEVENT
DTSTAMP:20200226T125846Z
CREATED:20180808T091358Z
UID:ATEvent-f118e37d9ca02d9a920cd0a37f514eb4
LAST-MODIFIED:20181106T021439Z
SUMMARY:NSAMS consultation workshop CAIRNS
DTSTART:20181008T230000Z
DTEND:20181009T040000Z
DESCRIPTION:Venue: The Bolands Centre\, 14 Spence Street\, Cairns 4870
 
CLASS:PUBLIC
END:VEVENT
END:VCALENDAR
