BEGIN:VCALENDAR
PRODID:-//AT Content Types//AT Event//EN
VERSION:2.0
METHOD:PUBLISH
BEGIN:VEVENT
DTSTAMP:20200226T125929Z
CREATED:20180808T091357Z
UID:ATEvent-f8970aaa46aa74d9e7116fd460d148c3
LAST-MODIFIED:20181106T021439Z
SUMMARY:NSAMS consultation workshop BUNBURY
DTSTART:20181106T020000Z
DTEND:20181106T053000Z
DESCRIPTION:Bunbury Regional Entertainment Centre\, 9 Blair Street\, B
 unbury 6230
CLASS:PUBLIC
END:VEVENT
END:VCALENDAR
