BEGIN:VCALENDAR
PRODID:-//AT Content Types//AT Event//EN
VERSION:2.0
METHOD:PUBLISH
BEGIN:VEVENT
DTSTAMP:20200226T125923Z
CREATED:20180808T091357Z
UID:ATEvent-1edb2ceb673c1889eb777ee606947deb
LAST-MODIFIED:20181106T021439Z
SUMMARY:NSAMS consultation workshop BRISBANE
DTSTART:20181101T020000Z
DTEND:20181101T053000Z
DESCRIPTION:Venue: Christie Conference Spaces\, Level 1\, 320 Adelaide
  Street\, Brisbane
CLASS:PUBLIC
END:VEVENT
END:VCALENDAR
