BEGIN:VCALENDAR
PRODID:-//AT Content Types//AT Event//EN
VERSION:2.0
METHOD:PUBLISH
BEGIN:VEVENT
DTSTAMP:20200226T125853Z
CREATED:20180808T091358Z
UID:ATEvent-124b886afcfc4dd9fba7b0937921d1d6
LAST-MODIFIED:20181106T021438Z
SUMMARY:NSAMS consultation workshop BALLARAT
DTSTART:20181011T230000Z
DTEND:20181012T040000Z
DESCRIPTION:Venue: Mecure Ballarat Hotel & Convention Centre\, 613 Mai
 n Road\, Ballarat 3350
CLASS:PUBLIC
END:VEVENT
END:VCALENDAR
