BEGIN:VCALENDAR
PRODID:-//AT Content Types//AT Event//EN
VERSION:2.0
METHOD:PUBLISH
BEGIN:VEVENT
DTSTAMP:20200226T125937Z
CREATED:20180808T091359Z
UID:ATEvent-9d940f6f72b93a8c349a05b6f33ca9e7
LAST-MODIFIED:20181106T021438Z
SUMMARY:NSAMS consultation workshop ADELAIDE
DTSTART:20181114T020000Z
DTEND:20181114T053000Z
DESCRIPTION:Venue: Rydges Adelaide\, 1 South Terrace\, Adelaide 5000
CLASS:PUBLIC
END:VEVENT
END:VCALENDAR
