BEGIN:VCALENDAR
PRODID:-//AT Content Types//AT Event//EN
VERSION:2.0
METHOD:PUBLISH
BEGIN:VEVENT
DTSTAMP:20260425T020834Z
CREATED:20231206T002715Z
UID:ATEvent-fd2b9ab417994f3c8a4f358e727c50bc
LAST-MODIFIED:20231208T042005Z
SUMMARY:Southcentral Foundation - Nuka System of Care
DTSTART:20231129T230000Z
DTEND:20231130T003000Z
DESCRIPTION:South Central Foundation’s (SCF) Nuka System of Care pro
 vides medical\, dental\, behavioural\, and traditional health care sup
 port services to more than 65,000 Alaska Native Indian People.\n\nThe 
 National Rural Health Commissioner\, Adj. Prof. Ruth Stewart has commi
 ssioned South Central Foundation and hosted a webinar to showcase the
  Nuka Health concept and how it positively affects health outcomes.
CLASS:PUBLIC
END:VEVENT
END:VCALENDAR
