BEGIN:VCALENDAR
PRODID:-//AT Content Types//AT Event//EN
VERSION:2.0
METHOD:PUBLISH
BEGIN:VEVENT
DTSTAMP:20260423T175627Z
CREATED:20250623T040807Z
UID:ATEvent-a5abf452803544c69b27758387e2f794
LAST-MODIFIED:20251110T003755Z
SUMMARY:Step 1
DTSTART:20251110T060000Z
DTEND:20251222T060000Z
CLASS:PUBLIC
END:VEVENT
END:VCALENDAR
